BEGIN:VCALENDAR
VERSION:2.0
PRODID:-//Stadtkapelle Zweibrücken - ECPv6.15.20//NONSGML v1.0//EN
CALSCALE:GREGORIAN
METHOD:PUBLISH
X-ORIGINAL-URL:https://skzw.de
X-WR-CALDESC:Veranstaltungen für Stadtkapelle Zweibrücken
REFRESH-INTERVAL;VALUE=DURATION:PT1H
X-Robots-Tag:noindex
X-PUBLISHED-TTL:PT1H
BEGIN:VTIMEZONE
TZID:Europe/Berlin
BEGIN:DAYLIGHT
TZOFFSETFROM:+0100
TZOFFSETTO:+0200
TZNAME:CEST
DTSTART:20250330T010000
END:DAYLIGHT
BEGIN:STANDARD
TZOFFSETFROM:+0200
TZOFFSETTO:+0100
TZNAME:CET
DTSTART:20251026T010000
END:STANDARD
BEGIN:DAYLIGHT
TZOFFSETFROM:+0100
TZOFFSETTO:+0200
TZNAME:CEST
DTSTART:20260329T010000
END:DAYLIGHT
BEGIN:STANDARD
TZOFFSETFROM:+0200
TZOFFSETTO:+0100
TZNAME:CET
DTSTART:20261025T010000
END:STANDARD
BEGIN:DAYLIGHT
TZOFFSETFROM:+0100
TZOFFSETTO:+0200
TZNAME:CEST
DTSTART:20270328T010000
END:DAYLIGHT
BEGIN:STANDARD
TZOFFSETFROM:+0200
TZOFFSETTO:+0100
TZNAME:CET
DTSTART:20271031T010000
END:STANDARD
END:VTIMEZONE
BEGIN:VEVENT
DTSTART;TZID=Europe/Berlin:20260510T110000
DTEND;TZID=Europe/Berlin:20260510T120000
DTSTAMP:20260422T132343
CREATED:20260106T135134Z
LAST-MODIFIED:20260106T135134Z
UID:1133-1778410800-1778414400@skzw.de
SUMMARY:Straßentheater
DESCRIPTION:Anlässlich des Straßentheaters wird die Stadtkapelle wieder in der Innenstadt auftreten
URL:https://skzw.de/event/strassentheater-3
END:VEVENT
BEGIN:VEVENT
DTSTART;TZID=Europe/Berlin:20260510T150000
DTEND;TZID=Europe/Berlin:20260510T170000
DTSTAMP:20260422T132343
CREATED:20260106T135318Z
LAST-MODIFIED:20260106T135318Z
UID:1135-1778425200-1778432400@skzw.de
SUMMARY:Rosengartenkonzert
DESCRIPTION:Anlässlich des Muttertages wird auch dieses Jahr wieder anlässlich des Muttertages ein Konzert im Rosengarten stattfinden.
URL:https://skzw.de/event/rosengartenkonzert-2
END:VEVENT
BEGIN:VEVENT
DTSTART;TZID=Europe/Berlin:20260522T080000
DTEND;TZID=Europe/Berlin:20260525T170000
DTSTAMP:20260422T132343
CREATED:20260106T135505Z
LAST-MODIFIED:20260106T135505Z
UID:1137-1779436800-1779728400@skzw.de
SUMMARY:Städteaustausch mit Boulogne Sur Mer
DESCRIPTION:Anlässlich der Städtepartnerschaft mit Boulogne Sur Mer fährt die Stadtkapelle dieses Jahr nach Frankreich.
URL:https://skzw.de/event/staedteaustausch-mit-boulogne-sur-mer
END:VEVENT
BEGIN:VEVENT
DTSTART;TZID=Europe/Berlin:20260726T110000
DTEND;TZID=Europe/Berlin:20260726T140000
DTSTAMP:20260422T132343
CREATED:20260106T135607Z
LAST-MODIFIED:20260106T135607Z
UID:1139-1785063600-1785074400@skzw.de
SUMMARY:Stadtfest Zweibrücken
DESCRIPTION:Auch dieses Jahr wird die Stadtkapelle auf dem Stadtfest spielen
URL:https://skzw.de/event/stadtfest-zweibruecken-3
END:VEVENT
BEGIN:VEVENT
DTSTART;TZID=Europe/Berlin:20261115T110000
DTEND;TZID=Europe/Berlin:20261115T120000
DTSTAMP:20260422T132343
CREATED:20260106T135807Z
LAST-MODIFIED:20260106T135807Z
UID:1141-1794740400-1794744000@skzw.de
SUMMARY:Volkstrauertag
DESCRIPTION:Auch dieses Jahr wird die Stadtkapelle die Veranstaltung anlässlich des Volkstrauertages musikalisch begleiten.
URL:https://skzw.de/event/volkstrauertag-6
CATEGORIES:Konzerte und Termine
END:VEVENT
BEGIN:VEVENT
DTSTART;TZID=Europe/Berlin:20261206T170000
DTEND;TZID=Europe/Berlin:20261206T180000
DTSTAMP:20260422T132343
CREATED:20260106T135947Z
LAST-MODIFIED:20260106T135947Z
UID:1143-1796576400-1796580000@skzw.de
SUMMARY:Nikolausumzug
DESCRIPTION:Anlässlich des Nikolausumzuges wird die Stadtkapelle in der Innenstadt mit der Feuerwehr Zweibrücken auftreten.
URL:https://skzw.de/event/nikolausumzug-5
CATEGORIES:Konzerte und Termine
END:VEVENT
BEGIN:VEVENT
DTSTART;TZID=Europe/Berlin:20261213T180000
DTEND;TZID=Europe/Berlin:20261213T190000
DTSTAMP:20260422T132343
CREATED:20260106T140131Z
LAST-MODIFIED:20260106T140131Z
UID:1145-1797184800-1797188400@skzw.de
SUMMARY:Adventskonzert
DESCRIPTION:Auch dieses Jahr wird die Stadtkapelle in der Alexanderskirche ihr Weihnachtskonzert spielen.
URL:https://skzw.de/event/adventskonzert-3
CATEGORIES:Konzerte und Termine
END:VEVENT
END:VCALENDAR